BEGIN:VCALENDAR
VERSION:2.0
PRODID:-//目黒区ドットコム - ECPv6.0.8//NONSGML v1.0//EN
CALSCALE:GREGORIAN
METHOD:PUBLISH
X-WR-CALNAME:目黒区ドットコム
X-ORIGINAL-URL:https://www.meguroku.com
X-WR-CALDESC:目黒区ドットコム のイベント
REFRESH-INTERVAL;VALUE=DURATION:PT1H
X-Robots-Tag:noindex
X-PUBLISHED-TTL:PT1H
BEGIN:VTIMEZONE
TZID:Asia/Tokyo
BEGIN:STANDARD
TZOFFSETFROM:+0900
TZOFFSETTO:+0900
TZNAME:JST
DTSTART:20190101T000000
END:STANDARD
END:VTIMEZONE
BEGIN:VEVENT
DTSTART;VALUE=DATE:20190511
DTEND;VALUE=DATE:20190521
DTSTAMP:20260425T215344
CREATED:20190506T004447Z
LAST-MODIFIED:20190506T004447Z
UID:18010-1557532800-1558396799@www.meguroku.com
SUMMARY:春の全国交通安全運動
DESCRIPTION:春の全国交通安全運動は、 \n令和元年5月11日（土曜日）から5月20日（月曜日）までの10日間実施されます。 \n一人ひとりが交通ルールを守り、事故のない安全なまちにしていきましょう。 \n東京都スローガン　世界一の交通安全都市TOKYOを目指して
URL:https://www.meguroku.com/event/%e6%98%a5%e3%81%ae%e5%85%a8%e5%9b%bd%e4%ba%a4%e9%80%9a%e5%ae%89%e5%85%a8%e9%81%8b%e5%8b%95/
CATEGORIES:中央エリア,北エリア,南エリア,東エリア,自由が丘,西エリア
ATTACH;FMTTYPE=image/gif:https://www.meguroku.com/wp/wp-content/uploads/2016/03/siri-2.gif
END:VEVENT
END:VCALENDAR